BEGIN:VCALENDAR
VERSION:2.0
PRODID:icalendar-ruby
CALSCALE:GREGORIAN
METHOD:PUBLISH
BEGIN:VEVENT
DTSTAMP:20260423T212844Z
UID:92-894110@muirlakealliance.ca
DTSTART:20261011T160000Z
DTEND:20261011T173000Z
CLASS:PUBLIC
CREATED:20260423T131238
DESCRIPTION:Join us as we worship on Sunday mornings at 10:00 a.m. \nIf yo
 u are unable to join us in person\, an audio recording of each service wil
 l be available Sunday afternoons.  Sign up to receive our weekly emails w
 hich will provide you with a link or find previous sermons under the Sermo
 ns tab of our webpage.\nhttps://www.muirlakealliance.ca/podcasts/media\nCo
 mmunion is celebrated on the first Sunday of every month.\nHowever you dec
 ide to join us\, we look forward to seeing you on Sunday Mornings!
LAST-MODIFIED:20260423T131238
LOCATION:Various
SUMMARY:Sunday Morning Service
URL;VALUE=URI:https://www.muirlakealliance.ca/events/sunday-morning-service
 /2026-10-11
ATTACH;FILENAME=20170403_133530.jpg;FMTTYPE=image/jpeg:https://dq5pwpg1q8ru
 0.cloudfront.net/2021/09/17/11/22/27/a84461f2-655c-4d51-b7b6-fac5e4f9d1c8/
 20170403_133530.jpg
END:VEVENT
END:VCALENDAR
